BEGIN:VCALENDAR
VERSION:2.0
PRODID:icalendar-ruby
CALSCALE:GREGORIAN
METHOD:PUBLISH
BEGIN:VEVENT
DTSTAMP:20260425T142901Z
UID:8-318844@sovereigngrace277.tithelysetup2.com
DTSTART:20261011T133000Z
DTEND:20261011T142000Z
CLASS:PUBLIC
CREATED:20260331T100145
DESCRIPTION:This is a six-session evangelistic course designed for small to
  large groups\, and especially for people with little or no Christian back
 ground or Bible knowledge. Topics covered are:\n\nJesus [Son of God]: Jesu
 s’ authority as the Son of God\, his teachings\, and miracles.\nJesus [H
 is Death]: Jesus’ death on the cross and its central role in the Christi
 an faith.\nJesus [His Resurrection]: Examines the importance of Jesus’ r
 esurrection.\nGod’s Gift: Explains salvation as a free gift of grace\, n
 ot earned by our works.\nRepenting: Discusses what it means to repent - tu
 rning from our ways to live God’s way.\nBelieving: Explores faith in Jes
 us and steps to embrace the Christian life.\n
LAST-MODIFIED:20260331T100145
LOCATION:
SUMMARY:Explaining Christianity
URL;VALUE=URI:https://sovereigngrace277.tithelysetup2.com/events/explaining
 -christianity/2026-10-11
ATTACH;FILENAME=Screenshot-2026-03-31-at-10.00.03AM.jpg;FMTTYPE=image/jpeg:
 https://dq5pwpg1q8ru0.cloudfront.net/2026/03/31/14/01/45/c2790168-a177-48e
 6-85ae-a7fce3633ace/Screenshot-2026-03-31-at-10.00.03AM.jpg
END:VEVENT
END:VCALENDAR
