BEGIN:VCALENDAR
VERSION:2.0
PRODID:icalendar-ruby
CALSCALE:GREGORIAN
METHOD:PUBLISH
BEGIN:VEVENT
DTSTAMP:20260425T112035Z
UID:5-318812@sovereigngrace277.tithelysetup2.com
DTSTART:20260426T140000Z
DTEND:20260426T150000Z
CLASS:PUBLIC
CREATED:20260223T143246
DESCRIPTION:Sunday Worship
LAST-MODIFIED:20260223T143246
LOCATION:
SUMMARY:Sunday Worship
URL;VALUE=URI:https://sovereigngrace277.tithelysetup2.com/events/sunday-wor
 ship/2026-04-26
END:VEVENT
END:VCALENDAR
